BEGIN:VCALENDAR
VERSION:2.0
PRODID:-//Fort Asterstein - ECPv6.15.20//NONSGML v1.0//EN
CALSCALE:GREGORIAN
METHOD:PUBLISH
X-WR-CALNAME:Fort Asterstein
X-ORIGINAL-URL:https://fort-asterstein.de
X-WR-CALDESC:Veranstaltungen für Fort Asterstein
REFRESH-INTERVAL;VALUE=DURATION:PT1H
X-Robots-Tag:noindex
X-PUBLISHED-TTL:PT1H
BEGIN:VTIMEZONE
TZID:Europe/Berlin
BEGIN:DAYLIGHT
TZOFFSETFROM:+0100
TZOFFSETTO:+0200
TZNAME:CEST
DTSTART:20240331T010000
END:DAYLIGHT
BEGIN:STANDARD
TZOFFSETFROM:+0200
TZOFFSETTO:+0100
TZNAME:CET
DTSTART:20241027T010000
END:STANDARD
BEGIN:DAYLIGHT
TZOFFSETFROM:+0100
TZOFFSETTO:+0200
TZNAME:CEST
DTSTART:20250330T010000
END:DAYLIGHT
BEGIN:STANDARD
TZOFFSETFROM:+0200
TZOFFSETTO:+0100
TZNAME:CET
DTSTART:20251026T010000
END:STANDARD
BEGIN:DAYLIGHT
TZOFFSETFROM:+0100
TZOFFSETTO:+0200
TZNAME:CEST
DTSTART:20260329T010000
END:DAYLIGHT
BEGIN:STANDARD
TZOFFSETFROM:+0200
TZOFFSETTO:+0100
TZNAME:CET
DTSTART:20261025T010000
END:STANDARD
END:VTIMEZONE
BEGIN:VEVENT
DTSTART;TZID=Europe/Berlin:20250513T180000
DTEND;TZID=Europe/Berlin:20250513T193000
DTSTAMP:20260420T121734
CREATED:20250214T224843Z
LAST-MODIFIED:20250622T184026Z
UID:1519-1747159200-1747164600@fort-asterstein.de
SUMMARY:2. Feierabendspaziergang über den Asterstein am 13. Mai 2025
DESCRIPTION:Feierabendspaziergang über den Asterstein\, 13.05.2025
URL:https://fort-asterstein.de/event/2-feierabendspaziergang-auf-dem-asterstein/
LOCATION:Fort-Asterstein\, Kolonnenweg 11\, Koblenz\, Rheinland-Pfalz\, 56077\, Germany
CATEGORIES:Veranstaltung für Vereinsmitglieder
ATTACH;FMTTYPE=image/jpeg:https://fort-asterstein.de/wp-content/uploads/2025/01/20250513_190709-scaled.jpg
ORGANIZER;CN="F%C3%B6rderverein des Fort Asterstein":MAILTO:info@fort-asterstein.de
END:VEVENT
END:VCALENDAR